BEGIN:VCALENDAR
VERSION:2.0
PRODID:-//Suchtpotenzial - ECPv5.6.0//NONSGML v1.0//EN
CALSCALE:GREGORIAN
METHOD:PUBLISH
X-WR-CALNAME:Suchtpotenzial
X-ORIGINAL-URL:https://www.suchtpotenzial.com
X-WR-CALDESC:Events for Suchtpotenzial
BEGIN:VTIMEZONE
TZID:Europe/Berlin
BEGIN:DAYLIGHT
TZOFFSETFROM:+0100
TZOFFSETTO:+0200
TZNAME:CEST
DTSTART:20260329T010000
END:DAYLIGHT
BEGIN:STANDARD
TZOFFSETFROM:+0200
TZOFFSETTO:+0100
TZNAME:CET
DTSTART:20261025T010000
END:STANDARD
END:VTIMEZONE
BEGIN:VEVENT
DTSTART;TZID=Europe/Berlin:20260425T203000
DTEND;TZID=Europe/Berlin:20260425T230000
DTSTAMP:20260425T222202
CREATED:20260318T094149Z
LAST-MODIFIED:20260318T094149Z
UID:1608-1777149000-1777158000@www.suchtpotenzial.com
SUMMARY:Hailtingen/Biberach\, Herrmanns Retro Days
DESCRIPTION:Programm: (S)HITSTORM.
URL:https://www.suchtpotenzial.com/event/hailtingen-biberach-herrmanns-retro-days/
LOCATION:Herrmann Fahrzeugtechnik\, Betzenweiler Str. 18\, Hailtingen\, Baden-Württemberg\, 88525
ATTACH;FMTTYPE=image/jpeg:https://www.suchtpotenzial.com/wp-content/uploads/2024/12/SP_Insta_1080x1080px.jpg
END:VEVENT
BEGIN:VEVENT
DTSTART;TZID=Europe/Berlin:20260507T200000
DTEND;TZID=Europe/Berlin:20260507T230000
DTSTAMP:20260425T222202
CREATED:20250926T145021Z
LAST-MODIFIED:20250926T145040Z
UID:1525-1778184000-1778194800@www.suchtpotenzial.com
SUMMARY:Mönchengladbach\, TIG Theater im Gründungshaus
DESCRIPTION:Programm: (S)Hitstorm.
URL:https://www.suchtpotenzial.com/event/moenchengladbach-tig-theater-im-gruendungshaus/
LOCATION:Theater im Gründungshaus\, Eickener Str. 88\, Mönchengladbach\, 41238
ATTACH;FMTTYPE=image/jpeg:https://www.suchtpotenzial.com/wp-content/uploads/2024/12/SP_Insta_1080x1080px.jpg
END:VEVENT
BEGIN:VEVENT
DTSTART;TZID=Europe/Berlin:20260508T200000
DTEND;TZID=Europe/Berlin:20260508T230000
DTSTAMP:20260425T222202
CREATED:20250902T130210Z
LAST-MODIFIED:20250902T130210Z
UID:1518-1778270400-1778281200@www.suchtpotenzial.com
SUMMARY:Fulda\, Kulturzentrum Kreuz
DESCRIPTION:Programm: (S)Hitstorm.
URL:https://www.suchtpotenzial.com/event/fulda-kulturzentrum-kreuz/
LOCATION:Fulda &#8211; Kulturzentrum Kreuz\, Schlitzerstraße 81\, Fulda\, 36039
ATTACH;FMTTYPE=image/jpeg:https://www.suchtpotenzial.com/wp-content/uploads/2024/12/SP_Insta_1080x1080px.jpg
END:VEVENT
BEGIN:VEVENT
DTSTART;TZID=Europe/Berlin:20260509T193000
DTEND;TZID=Europe/Berlin:20260509T223000
DTSTAMP:20260425T222202
CREATED:20250901T171143Z
LAST-MODIFIED:20250901T171143Z
UID:1512-1778355000-1778365800@www.suchtpotenzial.com
SUMMARY:Darmstadt\, Centralstation
DESCRIPTION:Programm: (S)Hitstorm.
URL:https://www.suchtpotenzial.com/event/darmstadt-centralstation/
LOCATION:Centralstation Darmstadt\, Im Carree\, Darmstadt\, 64283
ATTACH;FMTTYPE=image/jpeg:https://www.suchtpotenzial.com/wp-content/uploads/2024/12/SP_Insta_1080x1080px.jpg
END:VEVENT
BEGIN:VEVENT
DTSTART;TZID=Europe/Berlin:20260612T200000
DTEND;TZID=Europe/Berlin:20260612T230000
DTSTAMP:20260425T222202
CREATED:20260320T093259Z
LAST-MODIFIED:20260415T094412Z
UID:1617-1781294400-1781305200@www.suchtpotenzial.com
SUMMARY:Frankfurt - Neues Theater Höchst ++ Restkarten!
DESCRIPTION:Programm: (S)HITSTORM. \n++ Verlegter Termin vom 30.01.2026. \n++ Stand 15.04.: noch 7 Restkarten zu buchen.
URL:https://www.suchtpotenzial.com/event/frankfurt-neues-theater-hoechst/
LOCATION:Neues Theater Höchst\, Emmerich-Josef-Straße 46A\, Frankfurt - Höchst\, 65929
ATTACH;FMTTYPE=image/jpeg:https://www.suchtpotenzial.com/wp-content/uploads/2024/12/SP_Insta_1080x1080px.jpg
END:VEVENT
BEGIN:VEVENT
DTSTART;TZID=Europe/Berlin:20260613T200000
DTEND;TZID=Europe/Berlin:20260613T230000
DTSTAMP:20260425T222202
CREATED:20260320T093402Z
LAST-MODIFIED:20260320T093402Z
UID:1619-1781380800-1781391600@www.suchtpotenzial.com
SUMMARY:Frankfurt\, Neues Theater Höchst
DESCRIPTION:Programm: (S)HITSTORM. \n++ Verlegter Termin vom 31.01.2026.
URL:https://www.suchtpotenzial.com/event/frankfurt-neues-theater-hoechst-2/
LOCATION:Neues Theater Höchst\, Emmerich-Josef-Straße 46A\, Frankfurt - Höchst\, 65929
ATTACH;FMTTYPE=image/jpeg:https://www.suchtpotenzial.com/wp-content/uploads/2024/12/SP_Insta_1080x1080px.jpg
END:VEVENT
BEGIN:VEVENT
DTSTART;TZID=Europe/Berlin:20261009T200000
DTEND;TZID=Europe/Berlin:20261009T230000
DTSTAMP:20260425T222202
CREATED:20260115T141346Z
LAST-MODIFIED:20260115T141346Z
UID:1564-1791576000-1791586800@www.suchtpotenzial.com
SUMMARY:Berlin\, BKA
DESCRIPTION:Programm: (S)HITSTORM.
URL:https://www.suchtpotenzial.com/event/berlin-bka-2/
LOCATION:BKA &#8211; Berliner Kabarett Anstalt\, Mehringdamm 34\, Berlin\, 10961
ATTACH;FMTTYPE=image/jpeg:https://www.suchtpotenzial.com/wp-content/uploads/2024/12/SP_Insta_1080x1080px.jpg
END:VEVENT
BEGIN:VEVENT
DTSTART;TZID=Europe/Berlin:20261010T200000
DTEND;TZID=Europe/Berlin:20261010T230000
DTSTAMP:20260425T222202
CREATED:20260115T141139Z
LAST-MODIFIED:20260115T141215Z
UID:1562-1791662400-1791673200@www.suchtpotenzial.com
SUMMARY:Berlin\, BKA
DESCRIPTION:Programm: (S)HITSTORM.
URL:https://www.suchtpotenzial.com/event/berlin-bka/
LOCATION:BKA &#8211; Berliner Kabarett Anstalt\, Mehringdamm 34\, Berlin\, 10961
ATTACH;FMTTYPE=image/jpeg:https://www.suchtpotenzial.com/wp-content/uploads/2024/12/SP_Insta_1080x1080px.jpg
END:VEVENT
BEGIN:VEVENT
DTSTART;TZID=Europe/Berlin:20261011T190000
DTEND;TZID=Europe/Berlin:20261011T220000
DTSTAMP:20260425T222202
CREATED:20260115T141714Z
LAST-MODIFIED:20260115T141714Z
UID:1566-1791745200-1791756000@www.suchtpotenzial.com
SUMMARY:Hamburg\, Schmidt-Theater
DESCRIPTION:Programm (S)HITSTORM
URL:https://www.suchtpotenzial.com/event/hamburg-schmidt-theater/
LOCATION:Schmidt-Theater\, Spielbudenplatz 27-28\, Hamburg\, 20359
ATTACH;FMTTYPE=image/jpeg:https://www.suchtpotenzial.com/wp-content/uploads/2024/12/SP_Insta_1080x1080px.jpg
END:VEVENT
BEGIN:VEVENT
DTSTART;TZID=Europe/Berlin:20261015T200000
DTEND;TZID=Europe/Berlin:20261015T230000
DTSTAMP:20260425T222202
CREATED:20260318T094544Z
LAST-MODIFIED:20260318T094544Z
UID:1611-1792094400-1792105200@www.suchtpotenzial.com
SUMMARY:München\, Lustspielhaus
DESCRIPTION:Programm: (S)HITSTORM.
URL:https://www.suchtpotenzial.com/event/muenchen-lustspielhaus/
LOCATION:Lustspielhaus München\, Occamstr. 8\, München\, 80802
ATTACH;FMTTYPE=image/jpeg:https://www.suchtpotenzial.com/wp-content/uploads/2024/12/SP_Insta_1080x1080px.jpg
END:VEVENT
BEGIN:VEVENT
DTSTART;TZID=Europe/Berlin:20261016T200000
DTEND;TZID=Europe/Berlin:20261016T230000
DTSTAMP:20260425T222202
CREATED:20260115T142123Z
LAST-MODIFIED:20260115T142123Z
UID:1568-1792180800-1792191600@www.suchtpotenzial.com
SUMMARY:Aschaffenburg\, Stadttheater
DESCRIPTION:Programm (S)HITSTORM
URL:https://www.suchtpotenzial.com/event/aschaffenburg-stadttheater/
LOCATION:Aschaffenburg\, Stadttheater\, Schloßgasse 8\, Aschaffenburg\, 63739
ATTACH;FMTTYPE=image/jpeg:https://www.suchtpotenzial.com/wp-content/uploads/2024/12/SP_Insta_1080x1080px.jpg
END:VEVENT
BEGIN:VEVENT
DTSTART;TZID=Europe/Berlin:20261017T193000
DTEND;TZID=Europe/Berlin:20261017T223000
DTSTAMP:20260425T222202
CREATED:20260115T142248Z
LAST-MODIFIED:20260115T142248Z
UID:1571-1792265400-1792276200@www.suchtpotenzial.com
SUMMARY:St. Ingbert\, Stadthalle
DESCRIPTION:Programm (S)HITSTORM.
URL:https://www.suchtpotenzial.com/event/st-ingbert-stadthalle/
LOCATION:St. Ingbert Stadthalle\, Marktstraße 6\, St. Ingbert\, Saarland\, 66386
ATTACH;FMTTYPE=image/jpeg:https://www.suchtpotenzial.com/wp-content/uploads/2024/12/SP_Insta_1080x1080px.jpg
END:VEVENT
BEGIN:VEVENT
DTSTART;TZID=Europe/Berlin:20261023T193000
DTEND;TZID=Europe/Berlin:20261023T223000
DTSTAMP:20260425T222202
CREATED:20251205T160423Z
LAST-MODIFIED:20251205T160423Z
UID:1540-1792783800-1792794600@www.suchtpotenzial.com
SUMMARY:Erfurt\, Kabarett Puffbohne
DESCRIPTION:Programm: (S)HITSTORM.
URL:https://www.suchtpotenzial.com/event/erfurt-kabarett-puffbohne/
LOCATION:Erfurt\, Kabarett Puffbohne\, Lange Brücke 29\, Erfurt
ATTACH;FMTTYPE=image/jpeg:https://www.suchtpotenzial.com/wp-content/uploads/2024/12/SP_Insta_1080x1080px.jpg
END:VEVENT
BEGIN:VEVENT
DTSTART;TZID=Europe/Berlin:20261024T200000
DTEND;TZID=Europe/Berlin:20261024T230000
DTSTAMP:20260425T222202
CREATED:20260115T142411Z
LAST-MODIFIED:20260115T142411Z
UID:1573-1792872000-1792882800@www.suchtpotenzial.com
SUMMARY:Goslar\, Kulturkraftwerk Harzenergie
DESCRIPTION:Programm (S)HITSTORM.
URL:https://www.suchtpotenzial.com/event/goslar-kulturkraftwerk-harzenergie/
LOCATION:Goslar\, Kulturkraftwerk Harzenergie\, Hildesheimer Straße 21\, Goslar\, Niedersachsen\, 38640
ATTACH;FMTTYPE=image/jpeg:https://www.suchtpotenzial.com/wp-content/uploads/2024/12/SP_Insta_1080x1080px.jpg
END:VEVENT
BEGIN:VEVENT
DTSTART;TZID=Europe/Berlin:20261105T200000
DTEND;TZID=Europe/Berlin:20261105T230000
DTSTAMP:20260425T222202
CREATED:20260115T142928Z
LAST-MODIFIED:20260115T142928Z
UID:1575-1793908800-1793919600@www.suchtpotenzial.com
SUMMARY:Essen\, Stratmanns Theater
DESCRIPTION:Programm (S)HITSTORM.
URL:https://www.suchtpotenzial.com/event/essen-stratmanns-theater/
LOCATION:Stratmanns Theater\, Kennedyplatz 7\, Essen\, 45127
ATTACH;FMTTYPE=image/jpeg:https://www.suchtpotenzial.com/wp-content/uploads/2024/12/SP_Insta_1080x1080px.jpg
END:VEVENT
BEGIN:VEVENT
DTSTART;TZID=Europe/Berlin:20261106T200000
DTEND;TZID=Europe/Berlin:20261106T230000
DTSTAMP:20260425T222202
CREATED:20260318T095202Z
LAST-MODIFIED:20260318T095202Z
UID:1613-1793995200-1794006000@www.suchtpotenzial.com
SUMMARY:Köln\, Comedia
DESCRIPTION:Programm: (S)HITSTORM.
URL:https://www.suchtpotenzial.com/event/koeln-comedia/
LOCATION:Comedia Köln\, Vondelstraße 4-8\, Köln\, 50677
ATTACH;FMTTYPE=image/jpeg:https://www.suchtpotenzial.com/wp-content/uploads/2024/12/SP_Insta_1080x1080px.jpg
END:VEVENT
BEGIN:VEVENT
DTSTART;TZID=Europe/Berlin:20261107T200000
DTEND;TZID=Europe/Berlin:20261107T230000
DTSTAMP:20260425T222202
CREATED:20260209T104827Z
LAST-MODIFIED:20260209T104832Z
UID:1591-1794081600-1794092400@www.suchtpotenzial.com
SUMMARY:Moers\, Bollwerk 107
DESCRIPTION:Programm: (S)HITSTORM
URL:https://www.suchtpotenzial.com/event/moers-bollwerk-107/
LOCATION:Moers\, Bollwerk 107\, Zum Bollwerk 107\, Moers\, NRW\, 47441
ATTACH;FMTTYPE=image/jpeg:https://www.suchtpotenzial.com/wp-content/uploads/2024/12/SP_Insta_1080x1080px.jpg
END:VEVENT
BEGIN:VEVENT
DTSTART;TZID=Europe/Berlin:20261112T200000
DTEND;TZID=Europe/Berlin:20261112T230000
DTSTAMP:20260425T222202
CREATED:20260318T095518Z
LAST-MODIFIED:20260318T095518Z
UID:1615-1794513600-1794524400@www.suchtpotenzial.com
SUMMARY:Buchholz/Nordheide\, Empore
DESCRIPTION:(S)HITSTORM.
URL:https://www.suchtpotenzial.com/event/buchholz-nordheide-empore/
LOCATION:Empore Buchholz\, Breite Str. 10\, Buchholz\, Niedersachsen\, 21244
ATTACH;FMTTYPE=image/jpeg:https://www.suchtpotenzial.com/wp-content/uploads/2024/12/SP_Insta_1080x1080px.jpg
END:VEVENT
BEGIN:VEVENT
DTSTART;TZID=Europe/Berlin:20261113T200000
DTEND;TZID=Europe/Berlin:20261113T230000
DTSTAMP:20260425T222202
CREATED:20260115T143119Z
LAST-MODIFIED:20260115T144612Z
UID:1577-1794600000-1794610800@www.suchtpotenzial.com
SUMMARY:Osnabrück\, Botschaft
DESCRIPTION:Programm: (S)HITSTORM.
URL:https://www.suchtpotenzial.com/event/osnabrueck-osnabrueck/
LOCATION:Osnabrück\, Die Botschaft\, Frankenstraße 21\, Osnabrück\, 49082
ATTACH;FMTTYPE=image/jpeg:https://www.suchtpotenzial.com/wp-content/uploads/2024/12/SP_Insta_1080x1080px.jpg
END:VEVENT
BEGIN:VEVENT
DTSTART;TZID=Europe/Berlin:20261114T200000
DTEND;TZID=Europe/Berlin:20261114T230000
DTSTAMP:20260425T222202
CREATED:20260115T143237Z
LAST-MODIFIED:20260115T143237Z
UID:1579-1794686400-1794697200@www.suchtpotenzial.com
SUMMARY:Langenhagen/Hannover\, Theatersaal
DESCRIPTION:Programm: (S)HITSTORM.
URL:https://www.suchtpotenzial.com/event/langenhagen-hannover-theatersaal/
LOCATION:Theatersaal Langenhagen\, Rathenaustr. 14\, Langenhagen\, 30851
ATTACH;FMTTYPE=image/jpeg:https://www.suchtpotenzial.com/wp-content/uploads/2024/12/SP_Insta_1080x1080px.jpg
END:VEVENT
BEGIN:VEVENT
DTSTART;TZID=Europe/Berlin:20261120T200000
DTEND;TZID=Europe/Berlin:20261120T230000
DTSTAMP:20260425T222202
CREATED:20251208T151232Z
LAST-MODIFIED:20251208T151232Z
UID:1547-1795204800-1795215600@www.suchtpotenzial.com
SUMMARY:Bad Säckingen\, Gloria-Theater
DESCRIPTION:Programm: (S)HITSTORM
URL:https://www.suchtpotenzial.com/event/bad-saeckingen-gloria-theater/
LOCATION:Gloria &#8211; Theater Bad Säckingen\, Friedrichstraße 21\, Bad Säckingen\, Baden-Württemberg\, 79713
ATTACH;FMTTYPE=image/jpeg:https://www.suchtpotenzial.com/wp-content/uploads/2024/12/SP_Insta_1080x1080px.jpg
END:VEVENT
BEGIN:VEVENT
DTSTART;TZID=Europe/Berlin:20261121T200000
DTEND;TZID=Europe/Berlin:20261121T230000
DTSTAMP:20260425T222202
CREATED:20260115T143630Z
LAST-MODIFIED:20260115T143630Z
UID:1582-1795291200-1795302000@www.suchtpotenzial.com
SUMMARY:Heilbronn\, Maschinenfabrik
DESCRIPTION:Programm: (S)HITSTORM.
URL:https://www.suchtpotenzial.com/event/heilbronn-maschinenfabrik/
LOCATION:Heilbronn\, Kulturzentrum Maschinenfabrik\, Olgastraße 45\, Heilbronn\, 74072
ATTACH;FMTTYPE=image/jpeg:https://www.suchtpotenzial.com/wp-content/uploads/2024/12/SP_Insta_1080x1080px.jpg
END:VEVENT
BEGIN:VEVENT
DTSTART;TZID=Europe/Berlin:20261203T200000
DTEND;TZID=Europe/Berlin:20261203T230000
DTSTAMP:20260425T222202
CREATED:20260115T143807Z
LAST-MODIFIED:20260418T150955Z
UID:1585-1796328000-1796338800@www.suchtpotenzial.com
SUMMARY:Bochum\, Bahnhof Langendreer
DESCRIPTION:Programm: (S)HITSTORM.
URL:https://www.suchtpotenzial.com/event/bochum-bahnhof-langendreer/
LOCATION:Bahnhof Langendreer Bochum\, Wallbaumweg 108\, Bochum\, 44894
ATTACH;FMTTYPE=image/jpeg:https://www.suchtpotenzial.com/wp-content/uploads/2024/12/SP_Insta_1080x1080px.jpg
END:VEVENT
BEGIN:VEVENT
DTSTART;TZID=Europe/Berlin:20261204T200000
DTEND;TZID=Europe/Berlin:20261204T230000
DTSTAMP:20260425T222202
CREATED:20251205T161612Z
LAST-MODIFIED:20251205T164138Z
UID:1544-1796414400-1796425200@www.suchtpotenzial.com
SUMMARY:Münster\, Kap. 8 im Bürgerhaus
DESCRIPTION:Programm: (S)HITSTORM.
URL:https://www.suchtpotenzial.com/event/muenster-kap-8-im-buergerhaus/
LOCATION:Münster\, Kap.8\, Idenbrockplatz 8\, Münster\, 48159
ATTACH;FMTTYPE=image/jpeg:https://www.suchtpotenzial.com/wp-content/uploads/2024/12/SP_Insta_1080x1080px.jpg
END:VEVENT
BEGIN:VEVENT
DTSTART;TZID=Europe/Berlin:20261205T200000
DTEND;TZID=Europe/Berlin:20261205T230000
DTSTAMP:20260425T222202
CREATED:20260115T143921Z
LAST-MODIFIED:20260115T143921Z
UID:1587-1796500800-1796511600@www.suchtpotenzial.com
SUMMARY:Eschwege\, E-Werk
DESCRIPTION:Programm: (S)HITSTORM.
URL:https://www.suchtpotenzial.com/event/eschwege-e-werk/
LOCATION:E-Werk Eschwege\, Mangelgasse 19\, Eschwege\, Hessen\, 37269
ATTACH;FMTTYPE=image/jpeg:https://www.suchtpotenzial.com/wp-content/uploads/2024/12/SP_Insta_1080x1080px.jpg
END:VEVENT
END:VCALENDAR